Workbook
Name DIF_SD_USR_Email: '1. Trusselskatalog'!$B$4
Name dossier_f2casenumber: '1. Trusselskatalog'!#REF!
Name SdCt7fdcb78195474ce8948e4488548b43d5_0: Introduktion!$A$1
Name SdCt7fdcb78195474ce8948e4488548b43d5_1: Introduktion!$A$1

Sheet Introduktion
B2: Introduktion og vejledning til risikovurderingsskabelon
B3: Formål Denne skabelon har til formål at inspirere til, hvordan en risikovurdering kan gennemføres for et givet informationsaktiv. Det er en forudsætning, at organisationen har gennemført risikoidentifikationsfasen, og dermed allerede har udpeget et informationssikkerhedsaktiv. Bemærk at skabelonen, herunder trussels- og sårbarhedskataloget, altid skal tilpasses din organisations og aktivets kontekst. Målgruppe Skabelonen er tiltænkt personer, der arbejder med informationssikkerhed og mere specifikt risikostyring samt risikovurdering. ISO/IEC 27001 og ISO/IEC 27005 Den internationale ledelsesstandard for informationssikkerhed, ISO/IEC 27001, stiller krav til, at organisationer etablerer formaliseret it-risikostyring, jf. kapitel 6 og 8, men der stilles ikke krav til hvilken metode, der anvendes. Denne skabelon er baseret på fremgangsmåden fra standarden ISO/IEC 27005, der beskriver et risikostyringsrammeværk for informationssikkerhed. For så vidt angår skalaer for sandsynlighed og konsekvens er det valgt at erstatte den generiske 5 trins skala og terminologi fra ISO/IEC 27005 med en 4-trinsskala, da denne skala har været og er bredt anvendt i danske myndigheder. Myndigheder bør anvende den skala, de finder mest anvendelig og/eller som flugter med den historisk anvendte metode. Skalaerne i skabelonen kan tilpasses andre skalaer. Risikovurderingsproces Formålet med risikovurderinger er at identificere og håndtere de risici, der er i forbindelse med organisationens brug af systemer, informationer og data. Resultatet af risikovurderingen skal gerne være et overblik over organisationens risici og eventuelle anbefalinger til håndtering af risiciene. Resultaterne kan vises til ledelsen via denne skabelon, i et headmap (se fanen "6. Heatmap (manuel)" for et eksempel) eller indsættes i organisationens egen rapporteringsskabelon. Organisationens samlede risikobillede med alle risici bør indsættes i organisationens eget risikoregister. Nedenfor er vist et procesdiagram over trin i risikovurderingsprocessen, som skabelonen også gennemgår. Opbygning af skabelonen Fane "Introduktion": Denne fane introducerer skabelonen samt metodik til selve risikovurderingen. Fane "Risikovurdering": Her gennemføres selve risikovurderingen. Output er en oversigt over risici for aktivet og eventuelle håndterende tiltag, som aktivejeren har ansvaret for. Nogle felter skal manuelt udfyldes, mens andre automatisk udregnes baseret på pre-udfyldte formler. Fane "1-6": Kataloger og skemaer som kan bruges som inspiration og input til risikovurderingsarket. Kataloger og skemaerne skal tilpasses organisationers egen kontekst.
B31: Step by step guide til fanen "Risikovurdering"
B32: 1) Gem denne skabelon under et nyt navn [fx. løbenr_aktivnavn_beskrivelse]. 2) Gå til fanen "Risikovurdering" og udfyld systemnavn, risikoejer samt årstal. Risikoidentifikation 3) Kolonne B "trussel": Indsæt de trusler, som du vurderer relevante for aktivet, på baggrund af din organisations trusselskatalog. Pt er indsat en række eksempler med de mest almindelige trusler. Du kan finde inspiration til yderligere trusler i fanen "1. Trusselskatalog" eller selv indsætte yderligere. Hver linje indeholder én trussel. 4) Kolonne C "Sårbarhed": Indsæt de relevante sårbarheder, der kan udnytte hver af de valgte trusler. Pt er indsat sårbarheder tilhørende de pre-udfyldte trusselseksempler. Du kan finde yderligere inspiration i fanen "2. Sårbarhedskatalog". Bemærk at der kan være flere relevante sårbarheder for hver trussel. Risikoanalyse 5) Kolonne D "Sandsynlighed": Vælg en sandsynlighedsscore for at hændelsen materialiseres. Du kan finde definitionerne på hver score i fanen "3. Sandsynlighedsskema". Du kan ændre scoren, hvis din organisation anvender en anden skala. 6) Kolonne E-G "Konsekvens for forretningen": Udfyld hændelsens estimerede konsekvens for organisationen mht. brud på fortrolighed, integritet og tilgængelighed af data. Du kan finde definitionerne på hver score i fanen "4. Konsekvensskema". Du kan ændre scoren, hvis din organisation anvender en anden skala. 7) Kolonne H-J "Konsekvens for de registrerede": Udfyld hændelsens estimerede konsekvens for den registrerede mht. brud på fortrolighed, integritet og tilgængelighed af data. Du kan finde definitionerne på hver score i fanen "4. Konsekvensskema". Du kan ændre scoren, hvis din organisation anvender en anden skala. 8) Kolonne K-M "Konsekvens for samfundet": Udfyld hændelsens estimerede konsekvens for samfundet mht. brud på fortrolighed, integritet og tilgængelighed af data. Denne del afspejler NIS2-kravet til analyse af konsekvenser for samfundet i tilfælde af hændelser. Du kan finde inspiration hertil nederst i fanen "4. Konsekvensskema". 9) Kolonne N "Risiko": Risikoscoren udregnes automatisk ved at gange sandsynligheden med den højest vurderede konsekvens. Risikohåndtering 10) Kolonne O "Risikohåndtering": Vælg den risikohåndteringsmetode, som er mest effektiv for den enkelte trussel. Du kan finde beskrivelse for de anvendte kriterier i fanen "5. Risikohåndtering". 11) Kolonne P "Mulige mitigerende tiltag": Beskriv tiltag, der bevarer eller ændrer risikoen. Disse kan påvirke sandsynlighed og/eller konsekvens. 12) Kolonne Q "Restsandsynlighed": Angiv sandsynligheden for, at hændelsen indtræffer efter evt. implementering af mitigerende handling(er). 13) Kolonne R "Restkonsekvens": Angiv konsekvensen af, at hændelsen indtræffer efter evt. implementering af mitigerende handling(er). Angiv den højeste tilbageværende konsekvensscore. 14) Kolonne S "Restrisikoen": Den risiko, der er tilbage efter risikohåndtering (udregnes automatisk). 15) Kolonne T "Ansvarlig": Angiv navnet på den ansvarlige. 16) Kolonne U "Deadline": Angiv deadline for den/de mitigerende tiltag.

Sheet Risikovurdering
B2: STAMDATA
B3: SYSTEMNAVN: | C3: [Udfyld systemnavn]
B4: RISIKOEJER (KC): | C4: [Udfyld risikoejer]
B5: ÅR: | C5: [202x]
B8: Risikoidentifikation | D8: Risikoanalyse | O8: Risikohåndtering
A9: Risiko nr | B9: Trussel [Vejledning: Nedenfor er pre-udfyldt eksempler på nogle af de mest almindelige trusler fra fanen "Trusselskatalog". Du kan tage udgangspunkt i dem, slette og kopiere yderligere trusler ind fx med inspiration fra trusselskataloget] | C9: Sårbarhed [Vejledning: Nedenfor er pre-udfyldt sårbarheder, der kan udnytte trusselseksemplerne i kolonne B. Du kan tage udgangspunkt i dem, slette og kopiere yderligere sårbarheder ind fx med inspiration fra "Sårbarhedskatalog"] | D9: Sandsynlighed [Vejledning: Se definitioner for sandsynlighed i fanen "Sandsynlighedsskema" og vælg en score] | E9: Konsekvens for forretningen [Vejledning: Se definitioner på konsekvens i fanen "Konsekvensskema" og vælg en score] | H9: Konsekvens for de registrerede (jf. GDPR) [Vejledning: Se definitioner på konsekvens i fanen "Konsekvensskema" og vælg en score] | K9: Konsekvens for samfundet (jf. NIS2) [Vejledning: Se definitioner på konsekvens i fanen "Konsekvensskema" og vælg en score] | N9: Risiko [Vejledning: Beregnes automatisk udfra sandsynlighed x højeste konsekvens] | O9: Risikohåndtering [Vejledning: Den mest effektive håndtering udvælges fra drop down] | P9: Mulige mitigerende tiltag [Vejledning: Baseres på valg i kolonne O "5. Risikohåndtering". Se inspiration i fanen "5. Risikohåndtering" og beskriv den rette håndtering] | Q9: Restsandsynlighed [Vejledning: Vurdering af sandsynlighed på bagkant af mitigerende tiltag. Vælg en score] | R9: Restkonsekvens [Vejledning: Vurdering af konsekvens på bagkant af mitigerende tiltag. Vælg den højeste tilbageværende konsekvensscore] | S9: Restrisiko [Vejledning: Beregnes automatisk udfra restsandsynlighed x rest konsekvens] | T9: Ansvarlig | U9: Deadline for de mitigerende tiltag
E10: Fortrolighed | F10: Integritet | G10: Tilgængelighed | H10: Fortrolighed | I10: Integritet | J10: Tilgængelighed | K10: Fortrolighed | L10: Integritet | M10: Tilgængelighed
B11: ='1. Trusselskatalog'!C8 -> Mangel på ressourcer | C11: ='2. Sårbarhedskatalog'!C38 -> Mangelfulde rekrutteringsprocedurer | N11: =IF(ISBLANK(D11),"",D11*MAX(E11:M11)) | S11: =IF(Q11*R11=0,"",Q11*R11)
B12: ='1. Trusselskatalog'!C8 -> Mangel på ressourcer | C12: ='2. Sårbarhedskatalog'!C39 -> Mangelfuld oplæring/træning i sikkerhed | N12: =IF(ISBLANK(D12),"",D12*MAX(E12:M12)) | S12: =IF(Q12*R12=0,"",Q12*R12)
B13: ='1. Trusselskatalog'!C12 -> Strømudfald | C13: ='2. Sårbarhedskatalog'!C57 -> Mangelfuld eller manglende serviceleveranceaftale (SLA) | N13: =IF(ISBLANK(D13),"",D13*MAX(E13:M13)) | S13: =IF(Q13*R13=0,"",Q13*R13)
B14: ='1. Trusselskatalog'!C12 -> Strømudfald | C14: ='2. Sårbarhedskatalog'!C51 -> Utilstrækkelige aftaler (vedrørende sikkerhed) i kontrakter med kunder og/eller tredjeparter | N14: =IF(ISBLANK(D14),"",D14*MAX(E14:M14)) | S14: =IF(Q14*R14=0,"",Q14*R14)
B15: ='1. Trusselskatalog'!C14 -> Brand | C15: ='2. Sårbarhedskatalog'!C42 -> Mangelfulde eller manglende overvågningsmekanismer | N15: =IF(ISBLANK(D15),"",D15*MAX(E15:M15)) | S15: =IF(Q15*R15=0,"",Q15*R15)
B16: ='1. Trusselskatalog'!C14 -> Brand | C16: ='2. Sårbarhedskatalog'!C46 -> Utilstrækkelig fysisk beskyttelse af bygning, døre og vinduer | N16: =IF(ISBLANK(D16),"",D16*MAX(E16:M16)) | S16: =IF(Q16*R16=0,"",Q16*R16)
B17: ='1. Trusselskatalog'!C23 -> Tyveri af medier eller dokumenter | C17: ='2. Sårbarhedskatalog'!C46 -> Utilstrækkelig fysisk beskyttelse af bygning, døre og vinduer | N17: =IF(ISBLANK(D17),"",D17*MAX(E17:M17)) | S17: =IF(Q17*R17=0,"",Q17*R17)
B18: ='1. Trusselskatalog'!C26 -> Videregivelse af information | C18: ='2. Sårbarhedskatalog'!C65 -> Sanktionsproces i tilfælde af en informationssikkerhedsincident er ikke defineret eller fungerer ikke ordentligt | N18: =IF(ISBLANK(D18),"",D18*MAX(E18:M18)) | S18: =IF(Q18*R18=0,"",Q18*R18)
B19: ='1. Trusselskatalog'!C39 -> Misbrug af rettigheder eller tilladelser | C19: ='2. Sårbarhedskatalog'!C69 -> Adgangskontrol til informationsbehandlingsfaciliteter er ikke implementeret eller fungerer ikke ordentligt | N19: =IF(ISBLANK(D19),"",D19*MAX(E19:M19)) | S19: =IF(Q19*R19=0,"",Q19*R19)
B20: ='1. Trusselskatalog'!C42 -> Oversvømmelse | C20: ='2. Sårbarhedskatalog'!C45 -> Placering i et område, hvor der er risiko for oversvømmelse | N20: =IF(ISBLANK(D20),"",D20*MAX(E20:M20)) | S20: =IF(Q20*R20=0,"",Q20*R20)
N21: =IF(ISBLANK(D21),"",D21*MAX(E21:M21)) | S21: =IF(Q21*R21=0,"",Q21*R21)
N22: =IF(ISBLANK(D22),"",D22*MAX(E22:M22)) | S22: =IF(Q22*R22=0,"",Q22*R22)
N23: =IF(ISBLANK(D23),"",D23*MAX(E23:M23)) | S23: =IF(Q23*R23=0,"",Q23*R23)
N24: =IF(ISBLANK(D24),"",D24*MAX(E24:M24)) | S24: =IF(Q24*R24=0,"",Q24*R24)
N25: =IF(ISBLANK(D25),"",D25*MAX(E25:M25)) | S25: =IF(Q25*R25=0,"",Q25*R25)
N26: =IF(ISBLANK(D26),"",D26*MAX(E26:M26)) | S26: =IF(Q26*R26=0,"",Q26*R26)
N27: =IF(ISBLANK(D27),"",D27*MAX(E27:M27)) | S27: =IF(Q27*R27=0,"",Q27*R27)
N28: =IF(ISBLANK(D28),"",D28*MAX(E28:M28)) | S28: =IF(Q28*R28=0,"",Q28*R28)
N29: =IF(ISBLANK(D29),"",D29*MAX(E29:M29)) | S29: =IF(Q29*R29=0,"",Q29*R29)
N30: =IF(ISBLANK(D30),"",D30*MAX(E30:M30)) | S30: =IF(Q30*R30=0,"",Q30*R30)
N31: =IF(ISBLANK(D31),"",D31*MAX(E31:M31)) | S31: =IF(Q31*R31=0,"",Q31*R31)
N32: =IF(ISBLANK(D32),"",D32*MAX(E32:M32)) | S32: =IF(Q32*R32=0,"",Q32*R32)
... N232: =IF(ISBLANK(D232),"",D232*MAX(E232:M232)) | S232: =IF(Q232*R232=0,"",Q232*R232)

Sheet 1. Trusselskatalog
B2: Instruks: Her skal du udvælge de trusler, der er relevante for din organsation og aktivet, som du skal risikovurdere. Indsæt dem i fanen "Risikovurdering" i kolonne B ved manuelt at kopiere dem ind.
B4: Bilag 1: Eksempel på trusselskatalog - SKAL tilpasses til organisations kontekst inden risikovurdering startes | E4: Top 15 trusler
B5: Inspireret fra ISO/IEC 27005, ENISA og CFCS
B7: Kategori | C7: Eksempler på trusler | E7: Kategori | F7: Eksempler på trusler
B8: Organisatoriske trusler | C8: Mangel på ressourcer | E8: Infrastruktursvigt | F8: Strømudfald
C9: Svigt hos serviceudbydere | F9: Svigt af telekommunikationsnetværk
C10: Overtrædelse af love eller bestemmelser | E10: Tekniske fejl | F10: Svigt af udstyr eller system
C11: Svigt af forsyningssystem | F11: Manglende mulighed for vedligeholdelse af informationssystemet
B12: Infrastruktursvigt | C12: Strømudfald | E12: Menneskelige handlinger | F12: Tyveri af medier eller dokumenter
C13: Svigt af telekommunikationsnetværk | F13: Videregivelse af information
C14: Brand | F14: Uautoriseret behandling af personoplysninger
B15: Fysiske trusler | C15: Vand | F15: Beskadigelse af udstyr eller medier
C16: Alvorlig ulykke | F16: Datakorrumpering
C17: Støv, rust, frost | E17: Kompromittering af funktioner eller tjenester | F17: Fejl ved anvendelse
C18: Svigt af udstyr eller system | F18: Misbrug af rettigheder eller tilladelser
B19: Tekniske fejl | C19: Manglende mulighed for vedligeholdelse af informationssystemet | E19: Organisatoriske trusler | F19: Mangel på ressourcer
C20: Terrorangreb, sabotage | F20: Svigt hos serviceudbydere
B21: Menneskelige handlinger | C21: Social manipulation (social engineering) | F21: Overtrædelse af love eller bestemmelser
C22: Aflytning
C23: Tyveri af medier eller dokumenter
C24: Tyveri af udstyr
C25: Tyveri af digital identitet eller legitimationsoplysninger
C26: Videregivelse af information
C27: Datainput fra upålidelige kilder herunder DDoS
C28: Manipulation af hardware
C29: Manipulation af software
C30: Uautoriseret behandling af personoplysninger
C31: Uautoriseret adgang til faciliteter
C32: Uautoriseret brug af udstyr
C33: Forkert brug af udstyr
... C39: Misbrug af rettigheder eller tilladelser
B40: Naturskabte trusler | C40: Klimafænomen
C41: Meteorologisk fænomen
C42: Oversvømmelse
C43: Pandemi-/epidemifænomen

Sheet 2. Sårbarhedskatalog
B2: Instruks: Her skal du udvælge de sårbarheder, der muligvis kan udnyttes af de udvalgte trusler, som du har udvalgt i forrige skridt (kolonne B i fanen "Risikovurdering"). Indsæt de relevante sårbarheder i fanen "Risikovurdering" i kolonne C ved manuelt at kopiere dem ind.
B5: Bilag 2: Eksempel på sårbarhedskatalog - - SKAL tilpasses til organisations kontekst inden risikovurdering startes | E5: Top 15 sårbarheder
B6: Inspireret fra ISO/IEC 27005, ENISA og CFCS
B8: Kategori | C8: Eksempler på sårbarheder | E8: Kategori | F8: Eksempler på sårbarheder
B9: Hardware | C9: Mangelfuld vedligeholdelse/fejlagtig installation af lagringsmedier | E9: Hardware | F9: Mangelfuld styring af konfigurationsændringer
C10: Mangelfuld proces for periodisk udskiftning af udstyr | E10: Software | F10: Utilstrækkelige identifikations- og autentifikationsmekanismer (fx til brugerautentifikation)
C11: Følsomhed over for fugt, støv, urenheder | F11: Mangelfuld konfiguration af logning af auditspor
C12: Mangelfuld styring af konfigurationsændringer | E12: Netværk | F12: Ubeskyttet kommunikation af følsomme data
C13: Ubeskyttet lagring/opbevaring | F13: Ubeskyttede offentlige netværksforbindelser
C14: Mangel på omhu ved bortskaffelse | E14: Medarbejdere | F14: Forkert brug af software og hardware
B15: Software | C15: Ingen eller mangelfuld test af software | F15: Mangelfulde eller manglende overvågningsmekanismer
C16: Kendte fejl i softwaren | F16: Ringe awareness omkring sikkerhed
C17: Manglende "log-ud", når arbejdsstationen forlades | E17: Lokation | F17: Utilstrækkelig fysisk beskyttelse af bygning, døre og vinduer
C18: Bortskaffelse eller genbrug af lagringsmedier uden passende sletning | E18: Organisation | F18: Procedurer for risikoidentifikation og -vurdering er ikke udarbejdet, eller implementeringen heraf er ineffektiv
C19: Mangelfuld konfiguration af logning af auditspor | F19: Mangelfuld håndtering i forhold til servicevedligeholdelse
C20: Forkert tildeling af adgangsrettigheder | F20: Nødplaner findes ikke, eller de er mangelfulde eller forældede
C21: Anvendelse af tidsmæssigt forkerte data i applikationer | F21: Procedurer for håndtering af fortrolig information er ikke udarbejdet, eller implementeringen heraf er ineffektiv
C22: Kompliceret brugergrænseflade | F22: Utilstrækkelige aftaler (vedrørende sikkerhed) i kontrakter med kunder og/eller tredjeparter
C23: Utilstrækkelig eller manglende dokumentation
C24: Forkert opsætning af parametre
C25: Utilstrækkelige identifikations- og autentifikationsmekanismer (fx til brugerautentifikation)
C26: Dårlig administration af adgangskoder
C27: Aktivering af unødvendige tjenester
C28: Umoden eller ny software
C29: Uklare eller ufuldstændige specifikationer til udviklere
C30: Manglende styring af download og brug af software
C31: Manglende eller ufuldstændige backupkopier
C32: Ubeskyttet kommunikation af følsomme data
B33: Netværk | C33: Single point of failure
C34: Usikker netværksarkitektur
C35: Ubeskyttede offentlige netværksforbindelser
C36: Manglende/utilstrækkelig kryptering
B37: Medarbejdere | C37: Mangel på personale
C38: Mangelfulde rekrutteringsprocedurer
C39: Mangelfuld oplæring/træning i sikkerhed
C40: Forkert brug af software og hardware
C41: Ringe awareness omkring sikkerhed
C42: Mangelfulde eller manglende overvågningsmekanismer
C43: Ingen overvågning af arbejde udført af eksternt personale eller rengøringspersonale
B44: Lokation | C44: Mangelfuld eller skødesløs fysisk adgangskontrol til bygninger og rum
C45: Placering i et område, hvor der er risiko for oversvømmelse
C46: Utilstrækkelig fysisk beskyttelse af bygning, døre og vinduer
B47: Organisation | C47: Formel procedure for brugerregistrering og -afmelding er ikke udarbejdet, eller implementeringen heraf er ineffektiv
C48: Manglende/utilstrækkelige politikker
C49: Formel proces for gennemgang af adgangsrettigheder (tilsyn) er ikke udarbejdet, eller implementeringen heraf er ineffektiv
C50: Manglende overholdelse af procedurer
C51: Utilstrækkelige aftaler (vedrørende sikkerhed) i kontrakter med kunder og/eller tredjeparter
C52: Manglende procedure for incidenthåndtering
C53: Procedure for overvågning af informationsbehandlingsfaciliteter er ikke udarbejdet, eller implementeringen heraf er ineffektiv
C54: Procedurer for risikoidentifikation og -vurdering er ikke udarbejdet, eller implementeringen heraf er ineffektiv
C55: Mangelfulde eller manglende fejlrapporter i administrator- og operatørlogge
C56: Mangelfuld håndtering i forhold til servicevedligeholdelse
C57: Mangelfuld eller manglende serviceleveranceaftale (SLA)
C58: Procedure for ændringsstyring er ikke udarbejdet, eller implementeringen heraf er ineffektiv
C59: Mangelfuld delegering af ansvar for informationssikkerhed
... C71: Procedurer for rapportering af informationssikkerhedssvagheder er ikke udarbejdet, eller implementeringen heraf er ineffektiv

Sheet 3. Sandsynlighedsskema
B2: Instruks: For hver trussel og relateret sårbarhed skal udvælges en score for, hvor sandsynlig hændelsen er. Det anbefales at anvende de kriterier, som din organisation tidligere har brugt for at sikre sammenlignelighed. I denne template er valgt en fire-trins skala. Alternativt kan organisationen anvende kriteriesæt fra eksemplerne i ISO/IEC 27005, eller selv fastlægge egnede kriterier. Vælges en anden skala, skal drop down i kolonne D i "Risikovurdering" fanen ændres. Dette gøres ved "Data" -> "Datavalidering" -> "Datavalidering" -> fanen "Indstilling" - > under "Tillad" vælges "Liste" og marker scorene under "Kilde" og tryk "Ok". | E2: Sandsynlighedsscore til drop down
E3: 1
E4: 2
E5: 3
E6: 4
B8: Bilag 3: Eksempel på sandsynlighedsvurdering - bør justeres til organisations kontekst
B9: Kilde: Tidligere bilag fra Digitaliseringsstyrelsens vejledning til risikostyring indenfor informationssikkerhed (december 2020) med bilag
B11: Sandsynlighed | C11: Eksempelbeskrivelse
B12: Usandsynligt | C12: Det anses for næsten udelukket, at hændelsen nogensinde kan forekomme
B13: Score: 1 | C13: - Ingen erfaring med hændelsen
C14: - Kendes kun fra få offentlige og private virksomheder
B15: Mindre sandsynligt | C15: Hændelsen forventes ikke at komme
B16: Score: 2 | C16: - Mindre erfaring med hændelsen
C17: - Kendes fra offentlige og private virksomheder
B18: Sandsynligt | C18: Det er sandsynligt, at hændelsen vil forekomme
B19: Score: 3 | C19: - Man har erfaring med hændelsen, men ikke inden for de sidste 12 måneder
C20: - Kendes fra offentlige og private virksomheder (omtales årligt i pressen)
B21: Forventet | C21: Det forventes, at hændelsen vil forekomme
B22: Score: 4 | C22: - Man har erfaring med hændelsen inden for de sidste 12 måneder
C23: - Hænder jævnligt i andre offentlige og private virksomheder (omtales ofte i pressen)
B27: Tabel 2: Sandsynlighedsskala og skala for vurdering af sandsynlighed for samfundet (NIS2)

Sheet 4. Konsekvensskema
B2: Instruks: Konsekvensvurderingen skal foretages ud fra tre perspektiver: hændelsens mulige påvirkning for forretningen, den registreredes rettigheder og kritiske samfundsservices i kolonne E-M i "Risikovurdering" fanen. Nedenstående konsekvensbeskrivelser og skalaer kan anvendes til inspiration til at udfylde konsekvenserne for hhv. forretningen (se inspiration i tabel 1 nedenfor), de registrerede (se inspiration i tabel 2 nedenfor) og samfundet (se inspiration i tabel 3 nedenfor). Hvert perspektiv skal endvidere vurderes ud fra tre kategorier: Tab af fortrolighed, tab af Integritet og tab af tilgængelighed. I denne template er valgt en fire-trins skala. Alternativt kan organisationen anvende kriteriesæt fra eksemplerne i ISO27005, eller selv fastlægge egnede kriterier. Vælges en anden skala, skal drop down i kolonne D i "Risikovurdering" fanen ændres. Dette gøres ved "Data" -> "Datavalidering" -> "Datavalidering" -> fanen "Indstilling" - > under "Tillad" vælges "Liste" og marker scorene under "Kilde" og tryk "Ok".
K3: Konsekvensscore til drop down
K4: 1
K5: 2
K6: 3
K7: 4
B9: Bilag 4: Eksempel på konsekvensskema– bør justeres til organisations kontekst
B10: Kilde: Tidligere bilag fra Digitaliseringsstyrelsens vejledning til risikostyring indenfor informationssikkerhed (december 2020) med bilag
B12: Tabel 1: Konsekvenstyper og skala for vurdering af konsekvenser for forretningen
B13: Konsekvens-beskrivelse | C13: Medfører økonomiske meromkostninger eller tab for forretningen | D13: Medfører administrative belastninger for forretningen | E13: Påvirker forretningen omdømme negativt | F13: Medfører indskrænkninger i forretningen evne til at handle i en periode | G13: Påvirker forretningen forhold til interessenter | H13: Medfører brud på lovgivning, fx forvaltningslov og straffelov | I13: …
B14: Ubetydelig (uvæsentlig) Score: 1 | C14: Ingen særlig påvirkning | D14: Ingen særlige påvirkning | E14: Ingen særlig påvirkning | F14: Ingen særlig påvirkning | G14: Ingen særlig påvirkning | H14: Ingen særlig påvirkning | I14: …
B15: Mindre alvorlig (generende) Score: 2 | C15: Meromkostninger og tab i begrænset niveau, som kan kræve mindre budgetændringer | D15: Håndteres inden for rimeligt ekstra administrativt ressourcetræk | E15: Forbigående opmærksomhed fra enkelte grupper | F15: Planlagte aktiviteter kan gennemføres med mindre justeringer | G15: Forringet samarbejde med interessenter i enkeltsager | H15: Manglende overholdelse af administrative procedurer og regler, som ikke er af kritisk karakter | I15: …
B16: Meget alvorlig (kritisk) Score: 3 | C16: Store økonomiske tab med risiko for at blive sat under administration | D16: Der må trækkes væsentligt på eksisterende og nye administrative ressourcer | E16: Offentligheden fatter generel negativ interesse for organisationen | F16: Medfører revurdering af vigtige aktiviteter | G16: Generelt forringet samarbejde med interessenter | H16: Lovbrud, der er kritiske og kan stille ministeriet i miskredit | I16: …
B17: Graverende/ ødelæggende (uacceptabelt) Score: 4 | C17: Væsentlige økonomiske tab. Bliver sat under administration | D17: Eksisterende og nye administrative ressourcer er ikke tilstrækkelige | E17: Væsentlig skade på omdømme. Der vil være personale- og ledelsesmæssige konsekvenser | F17: Bliver ude af stand til at gennemføre vigtige aktiviteter. Der vil være personale- og ledelsesmæssige konsekvenser | G17: Væsentligt nedbrud i det generelle samarbejde med interessenter | H17: Brud på kritisk lovgivning, fx straffeloven brydes. Der vil være personale- og ledelsesmæssige konsekvenser | I17: …
B21: Tabel 2: Konsekvenstyper og skala for vurdering af konsekvenser for de registrerede
B22: Konsekvens-beskrivelse | C22: Forskelsbehandling, Skade på omdømme, Sociale konsekvenser, Indflydelse på privatliv, Skade på menneskelig værdighed | D22: Materiel skade, Identitetstyveri, Identitetssvig, Økonomiske konsekvenser, Finansielle tab, Skade på legitime interesser | E22: Immateriel skade, Fysisk skade, Skade på liv, psyke og helbred | F22: Begrænsning/krænkelse af fundamentale rettigheder og frihedsrettigheder | G22: Beskyttelsen af børns privatliv forringes | H22: …
B23: 1. Ubetydelig (uvæsentlig) | C23: Ingen særlig påvirkning | D23: Ingen særlig påvirkning | E23: Ingen særlig påvirkning | F23: Ingen særlig påvirkning | G23: Ingen særlig påvirkning | H23: …
B24: 2. Mindre alvorlig (generende) | C24: Registreredes eksponeres internt for uautoriserede | D24: Registrerede oplever ingen særlige eller mindre materielle tab. | E24: Registrerede udsættes for fysiske og/eller psykiske helbredsmæssige gener i mindre grad – intet alvorligt | F24: Registreredes fundamentale rettigheder forringes. Registrerede kan ikke gøre brug af sine rettigheder i en kortere periode. | G24: Børn eksponeres internt for uautoriserede. Forældres kontrol over barnets oplysninger forringes. Børn kan udsættes for helbredsmæssige gener - intet alvorligt. | H24: …
B25: 3. Meget alvorlig (kritisk) | C25: Registreredes eksponeres på en måde, som skader de sociale relationer, såvel internt blandt kollegaer og eksternt uden for organisation. Registreredes fratages potentielt retten til at være anonym. | D25: Registrerede oplever alvorlige materielle tab. | E25: Registrerede fysiske og/eller psykiske helbred eller fysiske sikkerhed påvirkes | F25: Registreredes fundamentale rettigheder forringes. Registrerede kan ikke gøre brug af sine rettigheder i en længere periode. | G25: Børn eksponeres på en måde, som ikke tjener den registrerede, og kan blive ekskluderet fra sociale netværk. Forældres kontrol over barnets personoplysninger fratages. Børns helbred påvirkes | H25: …
B26: 4. Graverende/ ødelæggende (uacceptabelt) | C26: Væsentlig skade på registreredes ry/omdømme, der kan føre til store sociale tab. Registrerede fratages muligheden for at være anonym, da fortroligheden af data mistes. | D26: Væsentlige materielle tab, der påvirker registreredes livssituation væsentligt | E26: Registreredes udsættes for fundamental helbredsmæssig fare. Registreredes fysiske sikkerhed er i fare. Menneskeliv kan stå på spil. | F26: Registrerede mister helt muligheden for at gøre brug af sine rettigheder. | G26: Børn lider væsentlig skade på omdømme, der kan føre til sociale tab. Børns helbred er i fundamental fare. | H26: …
B29: Tabel 3: Konsekvenstyper og skala for vurdering af konsekvenser for samfundet (NIS2)
B31: I en risikostyringssammenhæng medfører NIS2, at myndighederne også skal vurdere, hvorvidt en hændelse vil kunne påvirke eller skade andre i samfundet. Dette kan fx gøres ved, at den enkelte myndighed overvejer risici og konsekvenser for samfundet, hvis myndighedens kerneforretning rammes af en hændelse. Fx kan myndigheder i transportsektoren overveje risici forbundet med uautoriseret indgreb i trafikstyring i lufthavnen eller manglende styring af trafiksignaler på jernbanenettet. For myndigheder i sundhedssektoren kunne eksempler være fejl i fordelingen af medicinrecepter til borgere. Det er i denne forbindelse vigtigt at medtage potentielle konsekvenser og sandsynligheder i hele leverandørkæden for den pågældende service i det interne arbejde hen imod fastlæggelse af NIS2-afledte risikokriterier.

Sheet 5. Risikohåndtering
B2: Instrukt: Vælg den risikohåndteringsmetode, som er mest effektiv for behandling af den givne trussel. Se beskrivelse for de anvendte kriterier nedenfor. I den forbindelse skal du identificere de foranstaltninger, som er implementeret. Disse bør være beskrevet i organisationens Statement of Applicability, hvorfra du kan hente oplysningerne. Du kan hente yderligere inspiration i tabellen nedenfor til bestemmelse af, hvilke foranstaltninger der kan være relevante at implementere.
B8: Bilag 5: Eksempel på og inspiration til risikohåndteringsmetoder - bør justeres til organisations kontekst | E8: Konsekvensscore til drop down
E9: 1. Risikoundgåelse
E10: 2. Risikoreduktion
E11: 3. Risikodeling (overførsel)
B12: Kilde: Tidligere bilag fra Digitaliseringsstyrelsens vejledning til risikostyring indenfor informationssikkerhed (december 2020) med bilag | E12: 4. Risikofastholdelse (accept)
B14: Metode | C14: Beskrivelser
B15: 1. Risikoundgåelse | C15: Organisationen eliminerer risikoen ved at indstille aktiviteten eller fjerne kilden til risikoen. Dette kan fx gøres ved: • Afbryd tjenester eller produkter, der udgør uacceptable risici. • Ændre forretningsprocesser for at undgå risikable aktiviteter. • Nedlukning af ældre systemer, der udgør uoverskuelige risici. • Brug nyere, mere sikre teknologier eller software. • Flyt operationer ud af højrisikoområder eller jurisdiktioner.
B16: 2. Risikoreduktion (reduktion) | C16: Organisationen anvender kontroller/foranstaltninger for at reducere sandsynligheden eller virkningen af risikoen. Det kan være: Teknisk kontrol: • Implementer firewalls, systemer til registrering af indtrængen og slutpunktsbeskyttelse. • Krypter følsomme data under transmission og opbevaring. • Implementer adgangskontrolmekanismer såsom multi-faktor-godkendelse. Organisatoriske kontroller: • Etabler politikker og procedurer (f.eks. adgangskodehåndtering, hændelsesrespons). • Gennemfør regelmæssig sikkerhedsbevidsthedstræning for medarbejdere. • Vedligeholde effektive backup- og gendannelsessystemer. Fysiske kontroller: • Sikre lokaler med overvågning, låse og besøgsstyring. • Brug miljøkontrol såsom brandslukningssystemer.
B17: 3. Risikodeling (overførsel) | C17: Organisationen overfører risikoen til en anden part, såsom en ekstern tjenesteudbyder eller et forsikringsselskab. Dette kan fx gøres ved: • Køb en cybersikkerhedsforsikring for at dække økonomiske tab. • Outsource risikofyldte funktioner til specialiserede leverandører med bedre risikostyringsevner. • Brug cloud-tjenesteudbydere med stærke kontraktlige garantier for sikkerhed og overholdelse.
B18: 4. Risikofastholdelse (accept) | C18: Organisationen beslutter sig bevidst for at acceptere risikoen, når den er inden for tolerancetærsklen. Dette kan fx gøres ved, at: • Acceptere mindre risici, der er usandsynlige, eller som har en lav indvirkning. • Bruge formel risikoacceptdokumentation til at begrunde beslutningen. • Gennemgå regelmæssigt den tilbageholdte risiko for at sikre, at den forbliver inden for acceptable grænser.

Sheet 6. Opsummering-heatmap (manuel)
B2: Instruks: Der er forskellige metoder til at opsummere risikovurderingens resultater. Én metode er at indsætte alle eller de højest scorede risici i et heat map som nedenfor. Typisk indsættes rest-risici. Du kan anvende tekstboksene til højre til at indsætte risici manuelt
B6: Bilag 6: Eksempel på heatmap
B8: Konsekvens | C8: 4 Graverende/ødelæggende (uacceptabel) | E8: Under middel Score: 4 | F8: Middel Score: 8 | G8: Over middel Score: 12 | H8: Høj Score: 16
C9: 3 Meget alvorlig (kritisk) | E9: Under middel Score: 3 | F9: Under middel Score: 6 | G9: Middel Score: 9 | H9: Over middel Score: 12
C10: 2 Mindre alvorlig (generende) | E10: Under middel Score: 2 | F10: Under middel Score: 3 | G10: Under middel Score: 6 | H10: Middel Score: 8
C11: 1 Ubetydelig (uvæsentlig) | E11: Under middel Score: 1 | F11: Under middel Score: 2 | G11: Under middel Score: 3 | H11: Under middel Score: 4
E12: 1 Usandsynlig | F12: 2 Mindre sandsynlig | G12: 3 Sandsynlig | H12: 4 Forventet
C13: Sandsynlighed
E15: Lav - under middel: Bør ikke give anledning til yderligere behandling
E16: Middel: bør give anledning til løbende overvågning
E17: Over middel: Bør give anledning til håndtering
E18: Høj: Bør håndteres med det samme
